BEGIN:VCALENDAR
VERSION:2.0
PRODID:-//EAE MUSIQUE - ECPv6.15.18//NONSGML v1.0//EN
CALSCALE:GREGORIAN
METHOD:PUBLISH
X-WR-CALNAME:EAE MUSIQUE
X-ORIGINAL-URL:https://eaeselahmusique.com
X-WR-CALDESC:Events for EAE MUSIQUE
REFRESH-INTERVAL;VALUE=DURATION:PT1H
X-Robots-Tag:noindex
X-PUBLISHED-TTL:PT1H
BEGIN:VTIMEZONE
TZID:UTC
BEGIN:STANDARD
TZOFFSETFROM:+0000
TZOFFSETTO:+0000
TZNAME:UTC
DTSTART:20250101T000000
END:STANDARD
END:VTIMEZONE
BEGIN:VEVENT
DTSTART;TZID=UTC:20260913T123000
DTEND;TZID=UTC:20260913T203000
DTSTAMP:20260421T133903
CREATED:20200428T133115Z
LAST-MODIFIED:20260323T234255Z
UID:1204-1789302600-1789331400@eaeselahmusique.com
SUMMARY:Adsurgo.Co™ "NYFW" feat. Mr. Lewis Collection™
DESCRIPTION:https://eaeselahmusique.com/wp-content/uploads/2025/12/IGYF-PROMO-VIDEO_mp4-N-000.mp4\n  \nIGYFASHION presents a special live appearance by Mr. Lewis during New York Fashion Week at Pier 44 NYC. \nThis appearance marks a featured cultural moment within the IGYFASHION NYFW experience—where music\, fashion\, and legacy converge on one stage. Mr. Lewis appears not as a headlining concert act\, but as a featured presence\, aligning sound\, style\, and storytelling with the energy of New York Fashion Week. \nKnown for his legacy as Spliff Star and his evolution into Mr. Lewis\, this appearance represents a refined chapter—positioned within high-fashion\, culture-forward spaces that elevate artistry beyond performance alone. \nThis engagement is part of IGYFASHION’s continued commitment to merging runway\, music\, and cultural leadership during NYFW. Attendance is curated and aligned with the fashion showcase experience taking place at Pier 44. \nThis is a live appearance within a fashion event—not a standalone concert performance.
URL:https://eaeselahmusique.com/event/mr-lewis-live-appearance/
LOCATION:Industry City\, 220 36th Street\, Brooklyn\, NY\, 11232\, United States
CATEGORIES:"NYFW" in Times Square,Celebrity Gala - HipHop Edition,Concerts,Fashion Week Events,Hip-hop,Mr. Lewis,Music,Musical Appearances,Musical events,Opera
ATTACH;FMTTYPE=image/jpeg:https://eaeselahmusique.com/wp-content/uploads/2020/04/Events_FEAT-PHOTO-23-Spliff_000.jpg
END:VEVENT
END:VCALENDAR